BEGIN:VCALENDAR
VERSION:2.0
PRODID:-//PYVOBJECT//NONSGML Version 1//EN
BEGIN:VEVENT
UID:15056:59
DTSTART:20100730T000000
DTEND:20111130T000000
DESCRIPTION:Die neuen Figuren sind da.\n
DTSTAMP:20260424T202533Z
SUMMARY:Die neuen Figuren sind gekommen.
END:VEVENT
END:VCALENDAR
